BEGIN:VCALENDAR
VERSION:2.0
PRODID:-//Comité tourisme Haut-saint-François - ECPv6.1.1//NONSGML v1.0//EN
CALSCALE:GREGORIAN
METHOD:PUBLISH
X-WR-CALNAME:Comité tourisme Haut-saint-François
X-ORIGINAL-URL:https://www.tourismehsf.ca
X-WR-CALDESC:Events for Comité tourisme Haut-saint-François
REFRESH-INTERVAL;VALUE=DURATION:PT1H
X-Robots-Tag:noindex
X-PUBLISHED-TTL:PT1H
BEGIN:VTIMEZONE
TZID:UTC
BEGIN:STANDARD
TZOFFSETFROM:+0000
TZOFFSETTO:+0000
TZNAME:UTC
DTSTART:20200101T000000
END:STANDARD
END:VTIMEZONE
BEGIN:VEVENT
DTSTART;TZID=UTC:20201220T100000
DTEND;TZID=UTC:20201220T160000
DTSTAMP:20260420T072833
CREATED:20201117T182024Z
LAST-MODIFIED:20201117T182054Z
UID:4543-1608458400-1608480000@www.tourismehsf.ca
SUMMARY:Autocueillette de sapins à la Ferme Horti-Plus
DESCRIPTION:Rendez-vous à la ferme Horti-Plus pour choisir votre sapin directement dans la plantation.\nPhoto by Julianna Arjes on Unsplash
URL:https://www.tourismehsf.ca/evenement/autocueillette-de-sapins-a-la-ferme-horti-plus/2020-12-20/
LOCATION:68 route 112\, Westbury\, 68\, route 112\, Westbury\, Québec\, J0B 1R0\, Canada
END:VEVENT
END:VCALENDAR