BEGIN:VCALENDAR
VERSION:2.0
PRODID:-//Comité tourisme Haut-saint-François - ECPv6.1.1//NONSGML v1.0//EN
CALSCALE:GREGORIAN
METHOD:PUBLISH
X-WR-CALNAME:Comité tourisme Haut-saint-François
X-ORIGINAL-URL:https://www.tourismehsf.ca
X-WR-CALDESC:Events for Comité tourisme Haut-saint-François
REFRESH-INTERVAL;VALUE=DURATION:PT1H
X-Robots-Tag:noindex
X-PUBLISHED-TTL:PT1H
BEGIN:VTIMEZONE
TZID:UTC
BEGIN:STANDARD
TZOFFSETFROM:+0000
TZOFFSETTO:+0000
TZNAME:UTC
DTSTART:20210101T000000
END:STANDARD
END:VTIMEZONE
BEGIN:VEVENT
DTSTART;TZID=UTC:20211120T100000
DTEND;TZID=UTC:20211120T160000
DTSTAMP:20260419T163139
CREATED:20211109T210302Z
LAST-MODIFIED:20211109T210408Z
UID:5812-1637402400-1637424000@www.tourismehsf.ca
SUMMARY:La boîte à cadeau de Dudswell
DESCRIPTION:A BOÎTE À CADEAUX 2021\n25e ANNIVERSAIRE\nUn plancher d’artisans et un plancher de produits du terroir avec dégustations.\nPlusieurs activités : comptoir prêt à manger de produits du terroir\, chorale\, conte de Noël\, lutins à bonbons\, boîte à lettres du père Noël.
URL:https://www.tourismehsf.ca/evenement/la-boite-a-cadeau-de-dudswell-2/2021-11-20/
LOCATION:Église Saint-Clément de Bishopton\, 190\, rue Main\, Dudswell\, Québec\, J0B1G0\, Canada
END:VEVENT
END:VCALENDAR