BEGIN:VCALENDAR
VERSION:2.0
PRODID:-//Comité tourisme Haut-saint-François - ECPv6.1.1//NONSGML v1.0//EN
CALSCALE:GREGORIAN
METHOD:PUBLISH
X-ORIGINAL-URL:https://www.tourismehsf.ca
X-WR-CALDESC:Events for Comité tourisme Haut-saint-François
REFRESH-INTERVAL;VALUE=DURATION:PT1H
X-Robots-Tag:noindex
X-PUBLISHED-TTL:PT1H
BEGIN:VTIMEZONE
TZID:UTC
BEGIN:STANDARD
TZOFFSETFROM:+0000
TZOFFSETTO:+0000
TZNAME:UTC
DTSTART:20210101T000000
END:STANDARD
END:VTIMEZONE
BEGIN:VEVENT
DTSTART;TZID=UTC:20210507T160000
DTEND;TZID=UTC:20210507T200000
DTSTAMP:20260420T023314
CREATED:20210427T152234Z
LAST-MODIFIED:20210427T152234Z
UID:4840-1620403200-1620417600@www.tourismehsf.ca
SUMMARY:Marché de la fête des mères
DESCRIPTION:La Maison de la culture John-Henry-Pope présente le Marché de la fête des mères. \nUne belle occasion de dénicher un cadeau unique pour votre maman ou même pour vous gâter!
URL:https://www.tourismehsf.ca/evenement/marche-de-la-fete-des-meres/2021-05-07/
END:VEVENT
END:VCALENDAR