BEGIN:VCALENDAR
VERSION:2.0
PRODID:-//Comité tourisme Haut-saint-François - ECPv6.1.1//NONSGML v1.0//EN
CALSCALE:GREGORIAN
METHOD:PUBLISH
X-ORIGINAL-URL:https://www.tourismehsf.ca
X-WR-CALDESC:Events for Comité tourisme Haut-saint-François
REFRESH-INTERVAL;VALUE=DURATION:PT1H
X-Robots-Tag:noindex
X-PUBLISHED-TTL:PT1H
BEGIN:VTIMEZONE
TZID:UTC
BEGIN:STANDARD
TZOFFSETFROM:+0000
TZOFFSETTO:+0000
TZNAME:UTC
DTSTART:20210101T000000
END:STANDARD
END:VTIMEZONE
BEGIN:VEVENT
DTSTART;TZID=UTC:20211113T090000
DTEND;TZID=UTC:20211113T160000
DTSTAMP:20260419T144318
CREATED:20210923T152453Z
LAST-MODIFIED:20210923T152453Z
UID:5788-1636794000-1636819200@www.tourismehsf.ca
SUMMARY:Salon des ARTisans
DESCRIPTION:Une tradition automnale à Ascot Corner\, le salon des ARTisans est de retour en 2021. \nUne belle variété d’artisans sera présenté au plus grand plaisir des visiteurs qui pourront débuter leurs emplettes des fêtes.
URL:https://www.tourismehsf.ca/evenement/salon-des-artisans/2021-11-13/
LOCATION:Centre Paul-Lessard\, 5699\, chemin de la Rivière\, Ascot Corner\, Québec\, J0B 1A0\, Canada
END:VEVENT
END:VCALENDAR